BEGIN:VCALENDAR
VERSION:2.0
PRODID:-//Vancouver Mycological Society - ECPv6.15.20//NONSGML v1.0//EN
CALSCALE:GREGORIAN
METHOD:PUBLISH
X-WR-CALNAME:Vancouver Mycological Society
X-ORIGINAL-URL:https://vanmyco.org
X-WR-CALDESC:Events for Vancouver Mycological Society
REFRESH-INTERVAL;VALUE=DURATION:PT1H
X-Robots-Tag:noindex
X-PUBLISHED-TTL:PT1H
BEGIN:VTIMEZONE
TZID:America/Vancouver
BEGIN:DAYLIGHT
TZOFFSETFROM:-0800
TZOFFSETTO:-0700
TZNAME:PDT
DTSTART:20230312T100000
END:DAYLIGHT
BEGIN:STANDARD
TZOFFSETFROM:-0700
TZOFFSETTO:-0800
TZNAME:PST
DTSTART:20231105T090000
END:STANDARD
BEGIN:DAYLIGHT
TZOFFSETFROM:-0800
TZOFFSETTO:-0700
TZNAME:PDT
DTSTART:20240310T100000
END:DAYLIGHT
BEGIN:STANDARD
TZOFFSETFROM:-0700
TZOFFSETTO:-0800
TZNAME:PST
DTSTART:20241103T090000
END:STANDARD
BEGIN:DAYLIGHT
TZOFFSETFROM:-0800
TZOFFSETTO:-0700
TZNAME:PDT
DTSTART:20250309T100000
END:DAYLIGHT
BEGIN:STANDARD
TZOFFSETFROM:-0700
TZOFFSETTO:-0800
TZNAME:PST
DTSTART:20251102T090000
END:STANDARD
END:VTIMEZONE
BEGIN:VEVENT
DTSTART;TZID=America/Vancouver:20240113T173000
DTEND;TZID=America/Vancouver:20240113T220000
DTSTAMP:20260423T185052
CREATED:20231219T235819Z
LAST-MODIFIED:20231219T235919Z
UID:2473-1705167000-1705183200@vanmyco.org
SUMMARY:Survivors’ Banquet
DESCRIPTION:This is a true potluck feast\, “catered” by members\, for members and their guests. See below for more information. (If you are not currently a member or your membership has expired\, memberships can be taken out at the event.) Members are allowed to bring one guest. Entry is by donation\, with a suggested donation of 5$ (no one will be turned away for lack of funds).  \nMore details:\n● Event starts at 5:30 pm with Happy Hour appetizers\, spreads\, soups\, etc. Dinner starts at 6:30 pm. We may be playing music after dinner if you wish to bring an instrument.\n● Bring a dish to share with several people\, either an appetizer\, soup\, main or side dish\, salad\, or dessert. Also\, bring a serving utensil or two. (Points for fungi-based dishes\, especially dessert.) Please bring a list of ingredients.\n● There is no real kitchen in the hall\, just a small microwave\, so be creative in keeping your dish warm. Tables will be set up to leave your contribution.\n● Please bring your own plate\, bowl\, cup utensils\, etc. to use\, as well as any centerpiece or other table decor you’d like to add. Seating is “open” at tables for eight.\n● Due to current circumstances\, we highly encourage mask use and social distancing when not seated.\n● Please bring 2 pieces of valid ID if you’d like to purchase a drink from the bar. \nThis year\, our entertainment will be mushroom trivia\, and together with the guests at your table\, you’ll be able to flex your mycological knowledge. Prizes will be announced at the event.  \nIf you would like to attend\, please register through our Google form by January 8th at the latest:\nhttps://forms.gle/Rp9PVXdeMhce2YvQ6 \nSpace is limited! \nIf you have any questions or difficulty accessing the form\, please email president@vanmyco.com
URL:https://vanmyco.org/event/survivors-banquet-2/
CATEGORIES:Dining & Cookery,Event
END:VEVENT
END:VCALENDAR