BEGIN:VCALENDAR
VERSION:2.0
PRODID:-//Vancouver Mycological Society - ECPv6.15.20//NONSGML v1.0//EN
CALSCALE:GREGORIAN
METHOD:PUBLISH
X-ORIGINAL-URL:https://vanmyco.org
X-WR-CALDESC:Events for Vancouver Mycological Society
REFRESH-INTERVAL;VALUE=DURATION:PT1H
X-Robots-Tag:noindex
X-PUBLISHED-TTL:PT1H
BEGIN:VTIMEZONE
TZID:America/Vancouver
BEGIN:DAYLIGHT
TZOFFSETFROM:-0800
TZOFFSETTO:-0700
TZNAME:PDT
DTSTART:20240310T100000
END:DAYLIGHT
BEGIN:STANDARD
TZOFFSETFROM:-0700
TZOFFSETTO:-0800
TZNAME:PST
DTSTART:20241103T090000
END:STANDARD
BEGIN:DAYLIGHT
TZOFFSETFROM:-0800
TZOFFSETTO:-0700
TZNAME:PDT
DTSTART:20250309T100000
END:DAYLIGHT
BEGIN:STANDARD
TZOFFSETFROM:-0700
TZOFFSETTO:-0800
TZNAME:PST
DTSTART:20251102T090000
END:STANDARD
BEGIN:DAYLIGHT
TZOFFSETFROM:-0800
TZOFFSETTO:-0700
TZNAME:PDT
DTSTART:20260308T100000
END:DAYLIGHT
BEGIN:STANDARD
TZOFFSETFROM:-0700
TZOFFSETTO:-0800
TZNAME:PST
DTSTART:20261101T090000
END:STANDARD
END:VTIMEZONE
BEGIN:VEVENT
DTSTART;TZID=America/Vancouver:20250311T190000
DTEND;TZID=America/Vancouver:20250311T210000
DTSTAMP:20260425T131815
CREATED:20250225T171605Z
LAST-MODIFIED:20250508T162907Z
UID:2851-1741719600-1741726800@vanmyco.org
SUMMARY:Mushrooms + Culture of Greece with Olga Tzogas 
DESCRIPTION:Next Meeting: Mushrooms + Culture of Greece with Olga Tzogas \nTuesday\, March 11th \nOlga Tzogas started her love affair with Fungi and plants over 15 years ago\, with the help and guidance of family\, teachers and community. In 2011\, Smugtown Mushrooms was started\, which provides cultivation supplies to grow mushrooms\, indoors or outdoors\, for food or for medicine. Olga has taught hundreds of folks how to grow mushrooms\, make medicine and learn about the glory of Fungi and the natural world. Alongside the collaboration of the collective\, The Mycelium Underground\, Olga helped create the New Moon Mycology Summit in 2018. She was a core organizer for the 2016 Radical Mycology Convergence and the MycoSymbiotics Festival from 2015-17. Annually\, Olga returns to her ancestral homeland to guide small groups immersed in land based and traditional knowledge of the country of Greece\, highlighting the fungi and plants there. \nMushrooms + Culture of Greece \nMarch 11th\, 7pm @ Floral Hall (5251 Oak st.) \nExperience and take a visual journey into the diverse and lush natural world of Greece. Ancient forests\, traditional land based living still exist\, providing a rich culture weaved within nature itself. Connections to fungi are ever present and it’s only gaining more attention. Take a look into the relationships the locals have with certain species of mushrooms\, plants\, & their recipes for use. Olga Tzogas of Smugtown Mushrooms\, based in Rochester\, NY returns to her ancestral home to learn and connect deeper to the mycelial communities\, and the people still practicing traditional ways of life or those creating a new.  Greece is typically pictured by bluebird skies and matching crystalline seascapes\, but Greece is home to lush dense forests of several Oak species\, Chestnut\, Beech\, Fir\, Sycamores and Pine to name a few. The life they harbor is exquisite. See the similarities of fungal life that are shared on both continents. Together we see a visual depiction of the funga\, flora + fauna of this diverse ecological haven of the country of Greece. \n  \nDoors at 7\, Talk at 7:30 \nAs always\, we would love to see your specimens at our monthly mushroom table for identification and admiration. Be sure to check out what Spring finds are at the March display. \n  \nLove the talk? Your VMS membership allows you to access an archive of several past talks on our website for your marathoning pleasure. As always\, masks are encouraged in indoor spaces and for all in-person events! \n  \nVMS is still hybrid and we would love to see you virtually if you can’t make it in person! you can join us live through Zoom and there will be a Zoom recording in our members’ archive: \n  \nTopic: March Meeting\nTime: Mar 11\, 2025 07:30 PM Vancouver \nJoin Zoom Meeting\nhttps://us06web.zoom.us/j/85361195452?pwd=ERgv22FfwgCr3wrAlLsytAD9ic4kvq.1 \nMeeting ID: 853 6119 5452\nPasscode: 412892
URL:https://vanmyco.org/event/mushrooms-and-culture-of-greece/
CATEGORIES:VMS Meeting
END:VEVENT
END:VCALENDAR