BEGIN:VCALENDAR
VERSION:2.0
PRODID:-//Vancouver Mycological Society - ECPv6.15.20//NONSGML v1.0//EN
CALSCALE:GREGORIAN
METHOD:PUBLISH
X-ORIGINAL-URL:https://vanmyco.org
X-WR-CALDESC:Events for Vancouver Mycological Society
REFRESH-INTERVAL;VALUE=DURATION:PT1H
X-Robots-Tag:noindex
X-PUBLISHED-TTL:PT1H
BEGIN:VTIMEZONE
TZID:America/Vancouver
BEGIN:DAYLIGHT
TZOFFSETFROM:-0800
TZOFFSETTO:-0700
TZNAME:PDT
DTSTART:20240310T100000
END:DAYLIGHT
BEGIN:STANDARD
TZOFFSETFROM:-0700
TZOFFSETTO:-0800
TZNAME:PST
DTSTART:20241103T090000
END:STANDARD
BEGIN:DAYLIGHT
TZOFFSETFROM:-0800
TZOFFSETTO:-0700
TZNAME:PDT
DTSTART:20250309T100000
END:DAYLIGHT
BEGIN:STANDARD
TZOFFSETFROM:-0700
TZOFFSETTO:-0800
TZNAME:PST
DTSTART:20251102T090000
END:STANDARD
BEGIN:DAYLIGHT
TZOFFSETFROM:-0800
TZOFFSETTO:-0700
TZNAME:PDT
DTSTART:20260308T100000
END:DAYLIGHT
BEGIN:STANDARD
TZOFFSETFROM:-0700
TZOFFSETTO:-0800
TZNAME:PST
DTSTART:20261101T090000
END:STANDARD
END:VTIMEZONE
BEGIN:VEVENT
DTSTART;TZID=America/Vancouver:20250408T190000
DTEND;TZID=America/Vancouver:20250408T220000
DTSTAMP:20260425T144414
CREATED:20250328T195045Z
LAST-MODIFIED:20250406T232920Z
UID:2883-1744138800-1744149600@vanmyco.org
SUMMARY:AGM/ Monthly Meeting
DESCRIPTION:Mycology legend and founding member Paul Kroeger will be presenting: \nMushroom Misadventures: How people get into trouble eating mushrooms\, tales from poison control. Tuesday\, April 8th @ Floral Hall (5251 Oak st.) 7pm \nThis is a rundown on notable mushroom exposures from the past couple of years and will help to illustrate common mistakes that lead to illness from eating wild\, and occasionally cultivated\, mushrooms. \nPaul Kroeger has studied mushrooms for over thirty-five years and is a founding member of the Vancouver Mycological Society. He has been involved in many projects and studies about diverse aspects of mushrooms\, gaining knowledge about fungal ecology\, biochemistry of toxic\, hallucinogenic\, medicinal\, and edible mushrooms. Years of experience have created unique insights and understanding of fungal life-ways and interactions in temperate ecosystems. \nDoors at 7\, Talk at 7:35 \nAs always\, we would love to see your specimens at our monthly mushroom table for identification and admiration. Be sure to check out what Spring finds are at the April display. \nLove the talk? Your VMS membership allows you to access an archive of several past talks on our website for your marathoning pleasure. As always\, masks are encouraged in indoor spaces and for all in-person events! \nVMS is still hybrid and we would love to see you virtually if you can’t make it in person! You can join us live through Zoom and there will be a Zoom recording in our members’ archive: \nTopic: April Meeting\nTime: Apr 8\, 2025 07:20 PM Vancouver\nJoin Zoom Meeting\nhttps://us06web.zoom.us/j/88626152680?pwd=kMDw3sboh4vureamM2YkaQlkaGoFAr.1\nMeeting ID: 886 2615 2680\nPasscode: 096863 \nAGM REMINDER \nAs a valued member in good standing\, you are invited to attend the Vancouver Mycological Society Annual General Meeting (AGM) on Monday\, April 8 at 7:00 PM at Floral Hall.\nThe AGM is held during the first quarter of our regular scheduled monthly meeting. \nPlease note: Voting will take place ONLY IN PERSON and only during the AGM. (No online option is available) \nEach year\, the VMS holds an AGM to conduct essential club business\, including: \n    Election of Officers (President\, Vice President\, Treasurer\, and Secretary) \n    Election of Directors (members of the Board) \n    Review and approval of the financial report \nThis meeting is required to maintain our status with the BC Societies Registry. Due to disruptions caused by the COVID-19 pandemic\, the current Officers and Board—after consultation—have approved a streamlined process to ensure we meet our obligations for 2024/25.\n? Interested in Joining the Board?? \nIf you would like to run for a Board position\, we are accepting applications until April 6\, 2025. We encourage nominations for the roles of President\, Vice President\, Treasurer\, and Secretary. **We are specifically looking to find a new Treasurer! There will be training from the previous Treasurer (Tom Balog)** \nWe encourage all members who are interested to get involved!\nEven if you do not join the board this year there is lots of room to learn about how the board functions\, how we organize events and get involved! \nTo apply\, please complete the form at: https://forms.gle/H38pL3kauE6dvfYw5\nMore info at:  https://vanmyco.org/gov/ \nNomination Requirements: \n    Must have been a member in good standing for at least one year \n    Must be seconded by another member \n    Must accept the nomination \nIn addition to the slate presented by the Nominating Committee\, members may also be nominated from the floor during the AGM. Floor nominations must meet the same eligibility criteria and be seconded with the nominee’s consent. Details for floor nominations will be shared closer to the meeting date.\nBoard Member Eligibility: \n    At least 18 years old \n    Capable of managing personal affairs \n    Not currently bankrupt \n    No fraud or corporate convictions in the past five years \n    A VMS member in good standing for at least one year \nWe hope to see you at the meeting and encourage your involvement in shaping the future of the VMS!
URL:https://vanmyco.org/event/agm-monthly-meeting/
CATEGORIES:VMS Meeting
END:VEVENT
END:VCALENDAR