BEGIN:VCALENDAR
VERSION:2.0
PRODID:-//Vancouver Mycological Society - ECPv6.15.20//NONSGML v1.0//EN
CALSCALE:GREGORIAN
METHOD:PUBLISH
X-WR-CALNAME:Vancouver Mycological Society
X-ORIGINAL-URL:https://vanmyco.org
X-WR-CALDESC:Events for Vancouver Mycological Society
REFRESH-INTERVAL;VALUE=DURATION:PT1H
X-Robots-Tag:noindex
X-PUBLISHED-TTL:PT1H
BEGIN:VTIMEZONE
TZID:America/Vancouver
BEGIN:DAYLIGHT
TZOFFSETFROM:-0800
TZOFFSETTO:-0700
TZNAME:PDT
DTSTART:20240310T100000
END:DAYLIGHT
BEGIN:STANDARD
TZOFFSETFROM:-0700
TZOFFSETTO:-0800
TZNAME:PST
DTSTART:20241103T090000
END:STANDARD
BEGIN:DAYLIGHT
TZOFFSETFROM:-0800
TZOFFSETTO:-0700
TZNAME:PDT
DTSTART:20250309T100000
END:DAYLIGHT
BEGIN:STANDARD
TZOFFSETFROM:-0700
TZOFFSETTO:-0800
TZNAME:PST
DTSTART:20251102T090000
END:STANDARD
BEGIN:DAYLIGHT
TZOFFSETFROM:-0800
TZOFFSETTO:-0700
TZNAME:PDT
DTSTART:20260308T100000
END:DAYLIGHT
BEGIN:STANDARD
TZOFFSETFROM:-0700
TZOFFSETTO:-0800
TZNAME:PST
DTSTART:20261101T090000
END:STANDARD
END:VTIMEZONE
BEGIN:VEVENT
DTSTART;TZID=America/Vancouver:20250513T190000
DTEND;TZID=America/Vancouver:20250513T220000
DTSTAMP:20260425T161026
CREATED:20250502T172130Z
LAST-MODIFIED:20250508T181835Z
UID:2909-1747162800-1747173600@vanmyco.org
SUMMARY:Monthly Meeting: Edible Mushroom Identification
DESCRIPTION:This month\, we are welcoming yet another talented island mycologist to speak for us. Please join us Tuesday\, May 13th at Floral Hall for a special presentation on edible fungi. \nPast President and VP of the South Vancouver Island Mycological Society (SVIMS)\, mycology enthusiast Melanie Hess loves to teach the introduction of how to identify mushrooms. In this exciting talk about foraging\, we will explore how to identify fungi for the table! We will be going over the basics of mushroom ID\, common lookalikes\, and preparation guidelines. Melanie will be focusing on the most popular mushrooms\, from Spring to Fall.  \nFloral Hall is at 5251 Oak St\, Vancouver\, BC V6M 1A2 \nDoors at 7\, Talk at 7:30 \nAs always\, we would love to see your specimens at our monthly mushroom table for identification and admiration. Be sure to check out what unique Spring finds are at the May display. \nLove the talk? Your VMS membership allows you to access an archive of several past talks on our website for your marathoning pleasure. As always\, masks are encouraged in indoor spaces and for all in-person events! \nVMS is still hybrid and we would love to see you virtually if you can’t make it in person! You can join us live through Zoom and there will be a Zoom recording in our members’ archive: \nTopic: May Meeting\nTime: May 13\, 2025 07:30 PM Vancouver\nJoin Zoom Meeting\nhttps://us06web.zoom.us/j/81898385280?pwd=iCT1b24sMbMVSH6vjsghDaD6IbNyZc.1 \nMeeting ID: 818 9838 5280\nPasscode: 881709
URL:https://vanmyco.org/event/monthly-meeting-edible-mushroom-identificatio/
CATEGORIES:VMS Meeting
END:VEVENT
END:VCALENDAR