BEGIN:VCALENDAR
VERSION:2.0
PRODID:-//Vancouver Mycological Society - ECPv6.15.20//NONSGML v1.0//EN
CALSCALE:GREGORIAN
METHOD:PUBLISH
X-ORIGINAL-URL:https://vanmyco.org
X-WR-CALDESC:Events for Vancouver Mycological Society
REFRESH-INTERVAL;VALUE=DURATION:PT1H
X-Robots-Tag:noindex
X-PUBLISHED-TTL:PT1H
BEGIN:VTIMEZONE
TZID:America/Vancouver
BEGIN:DAYLIGHT
TZOFFSETFROM:-0800
TZOFFSETTO:-0700
TZNAME:PDT
DTSTART:20240310T100000
END:DAYLIGHT
BEGIN:STANDARD
TZOFFSETFROM:-0700
TZOFFSETTO:-0800
TZNAME:PST
DTSTART:20241103T090000
END:STANDARD
BEGIN:DAYLIGHT
TZOFFSETFROM:-0800
TZOFFSETTO:-0700
TZNAME:PDT
DTSTART:20250309T100000
END:DAYLIGHT
BEGIN:STANDARD
TZOFFSETFROM:-0700
TZOFFSETTO:-0800
TZNAME:PST
DTSTART:20251102T090000
END:STANDARD
BEGIN:DAYLIGHT
TZOFFSETFROM:-0800
TZOFFSETTO:-0700
TZNAME:PDT
DTSTART:20260308T100000
END:DAYLIGHT
BEGIN:STANDARD
TZOFFSETFROM:-0700
TZOFFSETTO:-0800
TZNAME:PST
DTSTART:20261101T090000
END:STANDARD
END:VTIMEZONE
BEGIN:VEVENT
DTSTART;TZID=America/Vancouver:20250909T110000
DTEND;TZID=America/Vancouver:20250909T220000
DTSTAMP:20260425T201923
CREATED:20250909T142642Z
LAST-MODIFIED:20250909T142642Z
UID:2970-1757415600-1757455200@vanmyco.org
SUMMARY:Monthly Meeting/ Foray with Leah Mycelia
DESCRIPTION:ID Walk at Pacific Spirit Park with Leah Mycelia\nSeptember 9th @ 11 am\nNext week\, before our monthly meeting\, we will be having a guided walk in the forest to look at the fungi of Pacific Spirit Park\, which is home to a vast and diverse fungal community. Our special guest mycologist\, Leah Bendlin will help to identify the specimens we encounter and talk about the fungal associations within our local ecosystem. \nPlease join us at the parking area (4915 W 16th Ave) at 11 am sharp on Tuesday. The walk will be on the paths only and solely for educational purposes\, leaving as little impact on the public space as possible. Feel free to bring your family\, friends\, kids\, and leashed dogs. You don’t wanna miss out on this!\n— \nCorrection for our September 9th meeting!\nOur speaker\, Leah Bendlin will be presenting a talk on mycoheterotrophic plants instead of common Fall fungi. Not to worry! We will have plenty of opportunities to learn about Fall fungi in our upcoming meetings. Talk description: \nMarvelous Mycoheterotrophs: The Beauty and Science of Floral-Fungal Freeloaders\nIf you’ve ever been fascinated by a waxy\, alien looking plant without green parts in the woods that doesn’t even seem like it should be real\, you may have been enchanted by a marvelous mycoheterotroph! In this talk\, we’ll discuss the biology and associations of these strange looking plants that depend upon fungi for survival\, as well as some of the scientific discoveries that lead to the current understanding of how they function. Leah will also help you get to know and recognize some local species and learn how they might help us in successful mushroom hunting! \nFor more information on Tuesday’s talk\, please see our homepage!\n— \nAnnouncing MycoMap BC!\nIn collaboration with other naturalist societies across the province\, the VMS is pleased to announce the launch of a new citizen science project for BC slime molds and fungi. MycoMap BC is a project aimed at documenting fungal biodiversity in British Columbia in partnership with Mycota Lab. This initiative will allow free\, year-round DNA sequencing for mushroom and slime mould collections available to anyone in BC. Your contributions will help us better understand the unique biodiversity of our province. \nHow to Participate\nWe invite mushroom enthusiasts\, backyard collectors\, and mycologists to help us collect thousands of specimens from all regions of BC. Here’s what you’ll need to get started:\n– A collection box\n– An iNaturalist account and a camera or phone\n– A food dehydrator \nOnce your collections are dried\, you’ll ship them to our Victoria\, BC collection point. We are currently accepting all collections made in 2025. \nFor detailed protocols\, FAQs\, and shipping instructions\, please visit MycoMapBC.org You can also find a link to our iNaturalist project and a form to receive the mailing address for your specimens. \nLaunch Event\nJoin us for a virtual launch event and celebration on September 16th at 7 PM via Zoom. The event will feature guest speakers including Stephen Russell of Mycota Lab and Andy Mackinnon and Kem Luther\, authors of Mushrooms of BC. They will discuss the importance of DNA sequencing\, followed by an overview of the collection protocol. There will also be a Q&A session.  \nRegister for the event here: https://us02web.zoom.us/meeting/register/l0L8ztPTQjGI4cvxq17-fA \nWe will also be hosting an online mycoblitz from September 17th-24th in hopes of hitting our first 1000 specimens! Join our iNaturalist project (linked on website below)\, and start making collections to join our leaderboard. \nProject Support & Contact \nThis project is supported by the South Vancouver Island Mycological Society\, the BC Biodiversity Program\, the Metchosin Foundation\, Whistler Naturalists\, SERAL (Society for Education\, Research and Arts on the Land)\, and the Vancouver Mycological Society.\nFor any questions or to offer support\, please contact project coordinators Elora Adamson (elora.adamson@svims.club) or Ann McCall (ann.mccall@svims.club).
URL:https://vanmyco.org/event/monthly-meeting-foray-with-leah-mycelia/
CATEGORIES:VMS Foray,VMS Meeting
END:VEVENT
BEGIN:VEVENT
DTSTART;TZID=America/Vancouver:20250912T170000
DTEND;TZID=America/Vancouver:20250914T120000
DTSTAMP:20260425T201923
CREATED:20250615T164757Z
LAST-MODIFIED:20250812T175051Z
UID:2946-1757696400-1757851200@vanmyco.org
SUMMARY:Manning Park Foray
DESCRIPTION:Hi folks! We are excited to officially announce that the VMS will be returning to Manning Park once again for our annual weekend excursion from September 12-14\, 2025. \nWe’d love for you to be there! We will have lots of fun walks\, talks\, and bonding with your fellow fungi enthusiasts! Think of it as Mushroom Summer camp.  \nThe Last Resort Lodge in Manning Park boasts dorm-style shared accommodations for up to 50 people\, and comes with amenities like shared washrooms\, a communal fire pit\, a dining and lounge area\, access to pool and sauna facilities\, and an outdoor picnic area.  \nThe VMS will provide breakfast\, lunch\, and dinner as well as snacks and refreshments.   \nWe will be arriving at the lodge Friday evening and returning home Sunday afternoon. \nPlease note that collecting of fungi within Manning is only for scientific purposes and not for consumption or dyes (unless folks choose to gather on their own outside the park). \nPricing:\nTickets are on sale NOW and likely to sell out\, so act fast!\nAdmission: $250 pp\nWe only take e-transfer\, please be ready to send one with your name in the message once you’ve submitted the form. \nThe fees cover 6 meals\, accommodation for 2 nights\, walks with expert mycologists\, and memories to last a lifetime! \nFor insurance reasons\, all attendees must be valid VMS members (if you are receiving this email\, you are a member). To sign up or renew\, please visit our website \nWe are also offering 3 cost-reduced volunteer tickets for those who are interested in helping us serve meals and clean. Please email president@vanmyco.com for more info (first come first serve) \nAccessibility:\nMost dorms are located on the second floor\, with 2 large rooms at ground level. There is a 6″ concrete lip to get through the front door of the lodge. There are no private rooms in the lodge and a majority of the beds are bunk beds. The walks will be of varying length and difficulty and done in subgroups. Dogs are not allowed in the lodging area.  \nREGISTRATION:\nIf you would like to attend\, please fill out the form below and send payment and we will send you a confirmation of your spot.\nhttps://forms.gle/6SpBQE9EM1LBpd8a6  \nFor any questions\, concerns\, or inquiries please email foray@vanmyco.com. Thank you!
URL:https://vanmyco.org/event/manning-park-foray/
CATEGORIES:Foray
END:VEVENT
END:VCALENDAR